BEGIN:VCALENDAR
VERSION:2.0
PRODID:-//eventon.com NONSGML v1.0//EN
CALSCALE:GREGORIAN
METHOD:PUBLISH
BEGIN:VEVENT
UID:69e6c0e56510a
DTSTAMP:20260421T001221Z
DTSTART:20250727T130000Z
DTEND:20250728T035000Z
LOCATION:
SUMMARY:BAPTISM SUNDAY: 4TH SUNDAY EACH MONTH
DESCRIPTION:The fourth Sunday of each month - 9am or 10:45am You will hear 
 a lot about Baptism at Shepherd! We’ve heard powerful stories about how b
 aptism can heal your heart\,  strengthen your faith\,  and make a bold stat
 ement of your belief. If you’re ready to take this step\,  we’re planni
 ng[..]\nhttps://shepnaz-org.azurewebsites.net/events/baptism-sunday-februar
 y/
URL:https://shepnaz-org.azurewebsites.net/events/baptism-sunday-february/
END:VEVENT
END:VCALENDAR